BEGIN:VCALENDAR
VERSION:2.0
CALSCALE:GREGORIAN
PRODID:adamgibbons/ics
METHOD:PUBLISH
X-PUBLISHED-TTL:PT1H
BEGIN:VEVENT
UID:21113@offbeat.amsterdam
SUMMARY:Trendy Tropics - Mexico
DTSTAMP:20260423T004453Z
DTSTART:20260513T170000Z
DTEND:20260513T210000Z
URL:https://offbeat.amsterdam/event/trendy-tropics-mexico
GEO:52.3601403;4.8656923
LOCATION:OT301 - Overtoom 301\, 1054 HW Amsterdam
STATUS:CONFIRMED
CATEGORIES:activism,amsterdam-west,art installation,film,food,live,live mus
	ic,movie screening,music,stories,talk,vondelparkbuurt
END:VEVENT
END:VCALENDAR
